Workbook
Name \a: #REF!
Name \b: #REF!
Name ____TAB1: #REF!
Name ____TAB2: #REF!
Name ____TAB3: #REF!
Name ____TAB4: #REF!
Name ____TAB5: #REF!
Name ____TAB6: #REF!
Name ___TAB1: #REF!
Name ___TAB2: #REF!
Name ___TAB3: #REF!
Name ___TAB4: #REF!
Name ___TAB5: #REF!
Name ___TAB6: #REF!
Name __TAB1: #REF!
Name __TAB2: #REF!
Name __TAB3: #REF!
Name __TAB4: #REF!
Name __TAB5: #REF!
Name __TAB6: #REF!
Name __YY2: '[1]PIP Budget'!$X$1:$X$65536
Name __YY3: '[1]PIP Budget'!$Y$1:$Y$65536
Name __YY4: '[1]PIP Budget'!$Z$1:$Z$65536
Name _BUD08: '[2]ESQ 08'!$A$1:$AE$1030
Name _can10: '[2]bail 07-10'!$Y$1:$Y$65536
Name _cpn10: '[2]bail 07-10'!$AI$1:$AI$65536
Name _GNF07: [2]var!$N$7
Name _LM2: [4]Sheet4!$A$1:$B$65536
Name _NO41: #REF!
Name _NO51: #REF!
Name _NO61: #REF!
Name _NOFXRATE: #REF!
Name _RO41: #REF!
Name _RO51: #REF!
Name _SO41: #REF!
Name _SO51: #REF!
Name _SO61: #REF!
Name _TAB1: #REF!
Name _TAB2: #REF!
Name _TAB3: #REF!
Name _TAB4: #REF!
Name _TAB5: #REF!
Name _TAB6: #REF!
Name _tea1: '[5]Programme Budget'!#REF!
Name _tea2: '[5]Programme Budget'!#REF!
Name _tea3: '[5]Programme Budget'!#REF!
Name _tea4: '[5]Programme Budget'!#REF!
Name _tea5: '[5]Programme Budget'!#REF!
Name _wt1: #REF!
Name _wt2: #REF!
Name _YY2: '[1]PIP Budget'!$X$1:$X$65536
Name _YY3: '[1]PIP Budget'!$Y$1:$Y$65536
Name _YY4: '[1]PIP Budget'!$Z$1:$Z$65536
Name a: #REF!
Name aaa: #REF!
Name accom_mwi: [6]Travel_CNO!$F$4
Name accom_tza: [6]Travel_CNO!$E$4
Name account_code: #REF!
Name account_description: #REF!
Name accrual2011: #REF!

Sheet  BUDGET SUMMARY
B3: PROGRAMME BUDGET SUMMARY
B5: Expenditure Categories as per CA | C5: Budget | D5: Budget Allocation | E5: Treshold Check | F5: Comments
B7: Remuneration | C7: ='1 Remuneration'!J58 -> 0 | D7: =IFERROR(C7/$C$18,0) -> 0 | E7: 0.18 | F7: Salaries and benefits shall be in accordance with local laws and the Organization’s salary scales and HR policies. Should not exceed 18%
B8: Subcontractors | C8: ='2. Subcontractor'!I37 -> 0 | D8: =IFERROR(C8/$C$18,0) -> 0 | E8: 0.2 | F8: Subcontractors must be at arm's length and must not be employees of the Organization or related parties or employees of related parties.Should not exceed 20%
B9: Travel | C9: ='3.Travel'!H61 -> 0 | D9: =IFERROR(C9/$C$18,0) -> 0 | E9: 0.05 | F9: Staff travel( Travel- relates to expenses for air, ground travel and perdiem as per TMA guidelines)
B10: Other Training Costs | C10: ='4. Other Training Costs'!I30 -> 0 | D10: =IFERROR(C10/$C$18,0) -> 0 | E10: 0.47 | F10: relates to costs for workshops, meetings or convening related to capacity building(venue, materials, meals, participant travel cost)
B11: Goods, assets and supplies | C11: ='5 Goods, Assets'!J8 -> 0 | D11: =IFERROR(C11/$C$18,0) -> 0 | E11: 0.03 | F11: Both physical and digital for project beneficiaries
B12: Administration costs | C12: ='6 Admin'!G17 -> 0 | D12: =IFERROR(C12/$C$18,0) -> 0 | E12: 0.03 | F12: Fair share of office rent, Office supplies,utilities,repair & mainteance etc
B13: Construction | C13: ='7 Construction'!F9 -> 0 | D13: =IFERROR(C13/$C$18,0) -> 0 | E13: 0.03 | F13: refers to Non-structural works: Works that do not affect the structural integrity of a structural element of a building, land improvement, towards beneficiary support
B14: Other project costs | C14: ='8. Other Direct Costs'!F6 -> 0 | D14: =IFERROR(C14/$C$18,0) -> 0 | E14: 0.01 | F14: Any other Project expenses not specifically mentioned in the above categories and must be directly related to the Project
B15: Sub Total | C15: =SUM(C7:C14) -> 0
B18: Total | C18: =C15 -> 0 | E18: =SUM(E7:E17) -> 1
C20: Budget Check
C22: Unfunded Office and Running cost
C24: Additional NPAC

Sheet 1 Remuneration
A1: Employees based in Canada and HQ and on short-term assignment overseas | J1: Plan CO
A3: Position | E3: Average Annual Salary and Benefits | F3: Numbers of months | G3: Numbers of months | H3: Numbers of months | I3: Level of Effort | J3: Total
A5: Employees based in Canada
J6: =(E6*H6) -> 0
J7: =(E7*H7) -> 0
J8: =(E8*H8) -> 0
J9: =(E9*H9) -> 0
J10: =(E10*H10) -> 0
J11: =(E11*H11) -> 0
J12: =(E12*H12) -> 0
A13: Employees on short-term assignment overseas
J14: =(E14*H14) -> 0
J15: =(E15*H15) -> 0
J16: =(E16*H16) -> 0
J17: =(E17*H17) -> 0
J18: =(E18*H18) -> 0
J19: =(E19*H19) -> 0
J20: =(E20*H20) -> 0
J21: =(E21*H21) -> 0
J22: =(E22*H22) -> 0
J23: =(E23*H23) -> 0
J24: =(E24*H24) -> 0
J25: =(E25*H25) -> 0
J26: =(E26*H26) -> 0
A27: Total CAD : | J27: =SUM(J5:J26) -> 0
A30: Remuneration Local employees
A32: Position | B32: Average Daily Rate | C32: No of Days Per Month | E32: Average Monthly Salary and Benefits | F32: Numbers of days per Yr | G32: Numbers of years/trips/sessions | H32: Numbers of months | I32: Level of Effort | J32: Total Usd | K32: Year 1 | L32: Year 2 | M32: Year 3 | N32: Total
A58: Total USD : | J58: =SUM(J33:J57) -> 0 | K58: =SUM(K33:K57) -> 0 | L58: =SUM(L33:L57) -> 0 | M58: =SUM(M33:M57) -> 0 | N58: =SUM(N33:N57) -> 0
D59: =#REF!+D58 -> #REF! | J59: 1677077.7
D60: =D59/0.72 -> #REF! | H60: =#REF!*80% -> #REF! | J60: =J59-J58 -> 1677077.7
D61: =12/88*D60 -> #REF! | H61: =#REF!-H60 -> #REF!
D62: 144581.53 | H62: 11566.523
J63: 22800
D64: =3050*8 -> 24400 | J64: 6
J67: 1726481
J68: =#REF!+#REF! -> #REF!
J69: =J68-J67 -> #REF!

Sheet 2. Subcontractor
A1: Output Code | B1: Code | C1: Outcome / output / Activity | D1: Modality | E1: No. of Benefiaries to be reached | F1: Unit Cost | G1: No. / Frequency | H1: No. of countries /borders/sessions | I1: Total in CAD | J1: Total in CAD | K1: Total USD | L1: Year 1 | M1: Year 2 | N1: Year 3 | O1: Total | P1: Total_PIP | Q1: Total_PIP_USD | R1: Allocation of Admin/Staff cost | S1: Total
S33: =SUM(L33:N33) -> 0
S34: =SUM(L34:N34) -> 0
S35: =SUM(L35:N35) -> 0
E37: =SUM(E4:E35) -> 0 | I37: =SUM(I4:I35) -> 0 | J37: =SUM(J4:J31) -> 0 | K37: =SUM(K4:K35) -> 0 | L37: =SUM(L4:L35) -> 0 | M37: =SUM(M4:M35) -> 0 | N37: =SUM(N4:N35) -> 0 | O37: =SUM(O4:O35) -> 0 | P37: =SUM(P4:P35) -> 0 | Q37: =SUM(Q4:Q35) -> 0 | R37: =SUM(R4:R35) -> 0 | S37: =SUM(S4:S35) -> 0
K38: =I38*'1 Remuneration'!$J$31 -> 0
K39: =I39*'1 Remuneration'!$J$31 -> 0
I42: =I37-I35 -> 0

Sheet 3.Travel
A1: Code/Output | B1: Code | C1: Outcome / output / Activity | D1: Modality | E1: Unit Cost | F1: No. / Frequency | G1: No. of countries to be covered | H1: Total USD | J1: Year 1 | K1: Year 2 | L1: Year 3 | M1: Total | N1: Total | O1: Category
H2: =E2*F2*G2 -> 0 | K2: =$H2*30% -> 0 | L2: =$H2*40% -> 0 | N2: =SUM(J2:L2) -> 0 | P2: =H2-N2 -> 0
H3: =E3*F3*G3 -> 0 | K3: =$H3*30% -> 0 | L3: =$H3*40% -> 0 | N3: =SUM(J3:L3) -> 0 | P3: =H3-N3 -> 0
H4: =E4*F4*G4 -> 0 | K4: =$H4*30% -> 0 | L4: =$H4*40% -> 0 | N4: =SUM(J4:L4) -> 0 | P4: =H4-N4 -> 0
H5: =E5*F5*G5 -> 0 | K5: =$H5*30% -> 0 | L5: =$H5*40% -> 0 | N5: =SUM(J5:L5) -> 0 | P5: =H5-N5 -> 0
E6: Sub-total | I6: =SUM(H2:H5) -> 0 | K6: =SUM(K2:K5) -> 0 | L6: =SUM(L2:L5) -> 0 | N6: =SUM(J6:L6) -> 0 | P6: =I6-N6 -> 0
H7: =E7*F7*G7 -> 0 | K7: =$H7*50% -> 0 | L7: =$H7*50% -> 0 | N7: =SUM(J7:L7) -> 0 | P7: =H7-N7 -> 0
H8: =E8*F8*G8 -> 0 | K8: =$H8*50% -> 0 | L8: =$H8*50% -> 0 | N8: =SUM(J8:L8) -> 0 | P8: =H8-N8 -> 0
H9: =E9*F9*G9 -> 0 | K9: =$H9*50% -> 0 | L9: =$H9*50% -> 0 | N9: =SUM(J9:L9) -> 0 | P9: =H9-N9 -> 0
H10: =E10*F10*G10 -> 0 | K10: =$H10*50% -> 0 | L10: =$H10*50% -> 0 | N10: =SUM(J10:L10) -> 0 | P10: =H10-N10 -> 0
E11: Sub-total | I11: =SUM(H7:H10) -> 0 | K11: =SUM(K7:K10) -> 0 | L11: =SUM(L7:L10) -> 0 | N11: =SUM(J11:L11) -> 0 | P11: =I11-N11 -> 0
H12: =E12*F12*G12 -> 0 | K12: =$H12*20% -> 0 | L12: =$H12*30% -> 0 | N12: =SUM(J12:L12) -> 0 | P12: =H12-N12 -> 0
H13: =E13*F13*G13 -> 0 | K13: =$H13*20% -> 0 | L13: =$H13*30% -> 0 | N13: =SUM(J13:L13) -> 0 | P13: =H13-N13 -> 0
H14: =E14*F14*G14 -> 0 | K14: =$H14*20% -> 0 | L14: =$H14*30% -> 0 | N14: =SUM(J14:L14) -> 0 | P14: =H14-N14 -> 0
H15: =E15*F15*G15 -> 0 | K15: =$H15*20% -> 0 | L15: =$H15*30% -> 0 | N15: =SUM(J15:L15) -> 0 | P15: =H15-N15 -> 0
E16: Sub-total | I16: =SUM(H12:H15) -> 0 | K16: =SUM(K12:K15) -> 0 | L16: =SUM(L12:L15) -> 0 | N16: =SUM(J16:L16) -> 0 | P16: =I16-N16 -> 0
N17: =SUM(J17:L17) -> 0 | P17: =H17-N17 -> 0
N18: =SUM(J18:L18) -> 0 | P18: =H18-N18 -> 0
H19: =E19*F19*G19 -> 0 | K19: =$H19*50% -> 0 | L19: =$H19*50% -> 0 | N19: =SUM(J19:L19) -> 0 | P19: =H19-N19 -> 0
H20: =E20*F20*G20 -> 0 | K20: =$H20*50% -> 0 | L20: =$H20*50% -> 0 | N20: =SUM(J20:L20) -> 0 | P20: =H20-N20 -> 0
H21: =E21*F21*G21 -> 0 | K21: =$H21*50% -> 0 | L21: =$H21*50% -> 0 | N21: =SUM(J21:L21) -> 0 | P21: =H21-N21 -> 0
H22: =E22*F22*G22 -> 0 | K22: =$H22*50% -> 0 | L22: =$H22*50% -> 0 | N22: =SUM(J22:L22) -> 0 | P22: =H22-N22 -> 0
E23: Sub-total | I23: =SUM(H19:H22) -> 0 | K23: =SUM(K19:K22) -> 0 | L23: =SUM(L19:L22) -> 0 | N23: =SUM(J23:L23) -> 0 | P23: =I23-N23 -> 0
H24: =E24*F24*G24 -> 0 | K24: =$H24*20% -> 0 | L24: =$H24*30% -> 0 | N24: =SUM(J24:L24) -> 0 | P24: =H24-N24 -> 0
H25: =E25*F25*G25 -> 0 | K25: =$H25*20% -> 0 | L25: =$H25*30% -> 0 | N25: =SUM(J25:L25) -> 0 | P25: =H25-N25 -> 0
H26: =E26*F26*G26 -> 0 | K26: =$H26*20% -> 0 | L26: =$H26*30% -> 0 | N26: =SUM(J26:L26) -> 0 | P26: =H26-N26 -> 0
H27: =E27*F27*G27 -> 0 | K27: =$H27*20% -> 0 | L27: =$H27*30% -> 0 | N27: =SUM(J27:L27) -> 0 | P27: =H27-N27 -> 0
E28: Sub-total | I28: =SUM(H24:H27) -> 0 | K28: =SUM(K24:K27) -> 0 | L28: =SUM(L24:L27) -> 0 | N28: =SUM(J28:L28) -> 0 | P28: =I28-N28 -> 0
H31: =E31*F31*G31 -> 0 | K31: =$H31*30% -> 0 | L31: =$H31*40% -> 0 | N31: =SUM(J31:L31) -> 0 | P31: =H31-N31 -> 0
H32: =E32*F32*G32 -> 0 | K32: =$H32*30% -> 0 | L32: =$H32*40% -> 0 | N32: =SUM(J32:L32) -> 0 | P32: =H32-N32 -> 0
H33: =E33*F33*G33 -> 0 | K33: =$H33*30% -> 0 | L33: =$H33*40% -> 0 | N33: =SUM(J33:L33) -> 0 | P33: =H33-N33 -> 0
H34: =E34*F34*G34 -> 0 | K34: =$H34*30% -> 0 | L34: =$H34*40% -> 0 | N34: =SUM(J34:L34) -> 0 | P34: =H34-N34 -> 0
E35: Sub-total | I35: =SUM(H31:H34) -> 0 | K35: =$I$35*30% -> 0 | L35: =$I$35*40% -> 0 | N35: =SUM(J35:L35) -> 0 | P35: =I35-N35 -> 0
H36: =E36*F36*G36 -> 0 | K36: =$H36*50% -> 0 | L36: =$H36*50% -> 0 | N36: =SUM(J36:L36) -> 0 | P36: =H36-N36 -> 0
H37: =E37*F37*G37 -> 0 | K37: =$H37*50% -> 0 | L37: =$H37*50% -> 0 | N37: =SUM(J37:L37) -> 0 | P37: =H37-N37 -> 0
H38: =E38*F38*G38 -> 0 | K38: =$H38*50% -> 0 | L38: =$H38*50% -> 0 | N38: =SUM(J38:L38) -> 0 | P38: =H38-N38 -> 0
H39: =E39*F39*G39 -> 0 | K39: =$H39*50% -> 0 | L39: =$H39*50% -> 0 | N39: =SUM(J39:L39) -> 0 | P39: =H39-N39 -> 0
E40: Sub-total | I40: =SUM(H36:H39) -> 0 | K40: =$I$40*50% -> 0 | L40: =$I$40*50% -> 0 | N40: =SUM(J40:L40) -> 0 | P40: =I40-N40 -> 0
H41: =E41*F41*G41 -> 0 | K41: =$H41*20% -> 0 | L41: =$H41*30% -> 0 | N41: =SUM(J41:L41) -> 0 | P41: =H41-N41 -> 0
H42: =E42*F42*G42 -> 0 | K42: =$H42*20% -> 0 | L42: =$H42*30% -> 0 | N42: =SUM(J42:L42) -> 0 | P42: =H42-N42 -> 0
...

Sheet 4. Other Training Costs
B1: Code/Formular | C1: Code | D1: Outcome / output / Activity | E1: Modality | F1: Unit Cost | G1: No. / Frequency | H1: No. of countries/borders to be covered | I1: Total | J1: Totals_USD | K1: Year 1 | L1: Year 2 | M1: Year 3 | N1: Total | O1: Allocation of Admin/Staff cost | P1: Total | Q1: Category | R1: Amount | S1: Checks | T1: Countries
N3: =SUM(K3:M3) -> 0
I4: =F4*G4*H4 -> 0 | L4: =$I4*25% -> 0 | M4: =$I4*25% -> 0 | N4: =SUM(K4:M4) -> 0 | S4: =I4-N4 -> 0
I5: =F5*G5*H5 -> 0 | L5: =$I5*25% -> 0 | M5: =$I5*25% -> 0 | N5: =SUM(K5:M5) -> 0 | S5: =I5-N5 -> 0
I6: =F6*G6*H6 -> 0 | L6: =$I6*25% -> 0 | M6: =$I6*25% -> 0
F7: Sub-total | J7: =SUM(I4:I6) -> 0 | L7: =$J$7*25% -> 0 | M7: =$J$7*25% -> 0 | N7: =SUM(K7:M7) -> 0 | S7: =J7-N7 -> 0
I9: =F9*G9*H9 -> 0 | L9: =$I9*50% -> 0 | M9: =$I9*50% -> 0 | N9: =SUM(K9:M9) -> 0 | S9: =I9-N9 -> 0
I10: =F10*G10*H10 -> 0 | L10: =$I10*50% -> 0 | M10: =$I10*50% -> 0 | N10: =SUM(K10:M10) -> 0 | S10: =I10-N10 -> 0
F11: Sub-total | J11: =SUM(I9:I10) -> 0 | L11: =$J$11*50% -> 0 | M11: =$J$11*50% -> 0 | N11: =SUM(K11:M11) -> 0 | S11: =J11-N11 -> 0
I13: =F13*G13*H13 -> 0 | L13: =$I13*30% -> 0 | M13: =$I13*40% -> 0 | N13: =SUM(K13:M13) -> 0 | S13: =I13-N13 -> 0
I14: =F14*G14*H14 -> 0 | L14: =$I14*30% -> 0 | M14: =$I14*40% -> 0 | N14: =SUM(K14:M14) -> 0 | S14: =I14-N14 -> 0
I15: =F15*G15*H15 -> 0 | L15: =$I15*30% -> 0 | M15: =$I15*40% -> 0 | N15: =SUM(K15:M15) -> 0 | S15: =I15-N15 -> 0
F16: Sub-total | J16: =SUM(I13:I15) -> 0 | L16: =SUM(L13:L15) -> 0 | M16: =SUM(M13:M15) -> 0 | N16: =SUM(N13:N15) -> 0
I18: =F18*G18*H18 -> 0 | N18: =SUM(K18:M18) -> 0 | S18: =I18-N18 -> 0
I19: =G19*F19*H19 -> 0 | L19: =$I19*50% -> 0 | M19: =$I19*50% -> 0 | N19: =SUM(K19:M19) -> 0 | S19: =I19-N19 -> 0
I20: =G20*F20*H20 -> 0 | L20: =$I20*50% -> 0 | M20: =$I20*50% -> 0 | N20: =SUM(K20:M20) -> 0 | S20: =I20-N20 -> 0
F21: Sub-total | J21: =SUM(I19:I20) -> 0 | L21: =SUM(L19:L20) -> 0 | M21: =SUM(M19:M20) -> 0 | N21: =SUM(N19:N20) -> 0
I23: =F23*G23*H23 -> 0 | L23: =$I23*30% -> 0 | M23: =$I23*20% -> 0 | N23: =SUM(K23:M23) -> 0 | S23: =I23-N23 -> 0
I24: =F24*G24*H24 -> 0 | L24: =$I24*30% -> 0 | M24: =$I24*20% -> 0 | N24: =SUM(K24:M24) -> 0 | S24: =I24-N24 -> 0
I25: =F25*G25*H25 -> 0 | L25: =$I25*30% -> 0 | M25: =$I25*20% -> 0 | N25: =SUM(K25:M25) -> 0 | S25: =I25-N25 -> 0
F26: Sub-total | J26: =SUM(I23:I25) -> 0 | L26: =SUM(L23:L25) -> 0 | M26: =SUM(M23:M25) -> 0 | N26: =SUM(N23:N25) -> 0 | S26: =J26-N26 -> 0
I28: =SUM(I4:I25) -> 0 | J28: =SUM(J4:J26) -> 0 | K28: =SUM(K7,K11,K16,K21,K26) -> 0 | L28: =SUM(L7,L11,L16,L21,L26) -> 0 | M28: =SUM(M7,M11,M16,M21,M26) -> 0 | N28: =SUM(N7,N11,N16,N21,N26) -> 0 | S28: =I28-N28 -> 0
N29: =SUM(K29:M29) -> 0 | S29: =I29-N29 -> 0
I30: =I28 -> 0 | J30: =J28 -> 0 | K30: =K28 -> 0 | L30: =L28 -> 0 | M30: =M28 -> 0 | N30: =N28 -> 0 | S30: =I30-N30 -> 0

Sheet 5 Goods, Assets
C1: GOODS, ASSETS and SUPPLIES
D2: Partner
A3: GL Mapping | B3: Output Code | C3: Cost Elements | D3: Partner | E3: Designation | F3: No of years | G3: No of days/yr | H3: No of Units/ | I3: Unit Cost | J3: Total USD | K3: Year 1 | L3: Year 2 | M3: Year 3 | N3: Total
J4: =F4*G4*H4*I4 -> 0 | L4: =$J$4*50% -> 0 | M4: =$J$4*50% -> 0 | N4: =SUM(K4:M4) -> 0
J5: =F5*G5*H5*I5 -> 0 | L5: =$J$5*30% -> 0 | M5: =$J$5*50% -> 0 | N5: =SUM(K5:M5) -> 0
J6: =F6*G6*H6*I6 -> 0
J7: =SUM(J4:J6) -> 0 | K7: =SUM(K4:K6) -> 0 | L7: =SUM(L4:L6) -> 0 | M7: =SUM(M4:M6) -> 0 | N7: =SUM(N4:N6) -> 0
C8: Total : | J8: =J7 -> 0 | K8: =K7 -> 0 | L8: =L7 -> 0 | M8: =M7 -> 0 | N8: =N7 -> 0
C10: Notes

Sheet 6 Admin
G2: 0.72
A3: GL class | B3: Details | C3: Partner | D3: # Month/year | E3: # of locations | F3: Unit Cost | G3: Total USD | H3: Year 1 | I3: Year 2 | J3: Year 3 | K3: Total
G4: =D4*E4*F4 -> 0 | I4: =G4/4 -> 0 | J4: =I4 -> 0 | K4: =SUM(H4:J4) -> 0 | L4: =SUM(I4:J4)-K4 -> 0
G5: =D5*E5*F5 -> 0 | I5: =G5/4 -> 0 | J5: =I5 -> 0 | K5: =SUM(H5:J5) -> 0 | L5: =SUM(I5:J5)-K5 -> 0
G6: =D6*E6*F6 -> 0 | I6: =G6/4 -> 0 | J6: =I6 -> 0 | K6: =SUM(H6:J6) -> 0 | L6: =SUM(I6:J6)-K6 -> 0
G7: =D7*E7*F7 -> 0 | I7: =G7/4 -> 0 | J7: =I7 -> 0 | K7: =SUM(H7:J7) -> 0 | L7: =SUM(I7:J7)-K7 -> 0
G8: =D8*E8*F8 -> 0 | I8: =G8/4 -> 0 | J8: =I8 -> 0 | K8: =SUM(H8:J8) -> 0 | L8: =SUM(I8:J8)-K8 -> 0
G9: =D9*E9*F9 -> 0 | I9: =G9/4 -> 0 | J9: =I9 -> 0 | K9: =SUM(H9:J9) -> 0 | L9: =SUM(I9:J9)-K9 -> 0
G10: =D10*E10*F10 -> 0 | I10: =G10/4 -> 0 | J10: =I10 -> 0 | K10: =SUM(H10:J10) -> 0 | L10: =SUM(I10:J10)-K10 -> 0
G11: =D11*E11*F11 -> 0 | I11: =G11/4 -> 0 | J11: =I11 -> 0 | K11: =SUM(H11:J11) -> 0 | L11: =SUM(I11:J11)-K11 -> 0
G12: =D12*E12*F12 -> 0 | I12: =G12/4 -> 0 | J12: =I12 -> 0 | K12: =SUM(H12:J12) -> 0 | L12: =SUM(I12:J12)-K12 -> 0
G13: =4*E13*F13 -> 0 | I13: =G13/4 -> 0 | J13: =I13 -> 0 | K13: =SUM(H13:J13) -> 0 | L13: =SUM(I13:J13)-K13 -> 0
G15: =D15*E15*F15 -> 0 | H15: =F15*5 -> 0 | I15: =F15*12 -> 0 | J15: =I15 -> 0 | K15: =SUM(H15:J15) -> 0 | L15: =SUM(H15:J15)-K15 -> 0
G16: =SUM(G4:G15) -> 0 | H16: =SUM(H4:H15) -> 0 | I16: =SUM(I4:I15) -> 0 | J16: =SUM(J4:J15) -> 0 | K16: =SUM(K4:K15) -> 0 | L16: =SUM(H16:J16)-K16 -> 0
B17: Total | G17: =G16 -> 0 | H17: =H16 -> 0 | I17: =I16 -> 0 | J17: =J16 -> 0 | K17: =K16 -> 0

Sheet 7  Construction
B1: CONSTRUCTION
B3: Cost Elements | C3: # of Units | D3: Unit Description | E3: Unit Cost | F3: Total USD | G3: Year 1 | H3: Year 2 | I3: Year 3 | J3: Total | K3: Allocation of Admin/Staff cost | L3: Total
B5: 1. Non -Structural Works* | F5: =(C5*E5) -> 0 | J5: =SUM(G5:I5) -> 0 | K5: 0 | L5: =K5+J5 -> 0
F6: =C6*E6 -> 0 | H6: =$F$6*30% -> 0 | I6: =$F$6*40% -> 0 | J6: =SUM(G6:I6) -> 0 | L6: =K6+J6 -> 0
J7: =SUM(G7:I7) -> 0 | K7: 0 | L7: =K7+J7 -> 0
B8: Subtotal Non-Structural Works | J8: =SUM(G8:I8) -> 0 | K8: 0 | L8: =K8+J8 -> 0
B9: Total | F9: =SUM(F4:F8) -> 0 | G9: =SUM(G4:G8) -> 0 | H9: =SUM(H4:H8) -> 0 | I9: =SUM(I4:I8) -> 0 | J9: =SUM(J4:J8) -> 0 | K9: =SUM(K4:K8) -> 0 | L9: =SUM(L4:L8) -> 0
C11: NOTE:
B15: Budget refers to Non-structural works: Works that do not affect the structural integrity of a structural element of a building, land improvement, or other construction such as painting, new floor, replacing windows and doors without changing the structure, etc.

Sheet 8. Other Direct Costs
B3: Details | C3: # Month/year | D3: # of locations | E3: Unit Cost | F3: Total USD | G3: Year 1 | H3: Year 2 | I3: Year 3 | J3: Total | K3: All Numbers
A4: 1121.5 | F4: =C4*D4*E4 -> 0 | H4: =$F$4*25% -> 0 | I4: =$F$4*25% -> 0 | J4: =SUM(G4:I4) -> 0
A5: 1221.5 | F5: =D5*E5 -> 0 | H5: =F5/3 -> 0 | J5: =SUM(G5:I5) -> 0
B6: Total | F6: =SUM(F4:F5) -> 0 | G6: =SUM(G4:G5) -> 0 | H6: =SUM(H4:H5) -> 0 | I6: =SUM(I4:I5) -> 0 | J6: =SUM(J4:J5) -> 0 | K6: =SUM(K4:K5) -> 0
H8: ='7 Construction'!H9 -> 0 | I8: ='7 Construction'!I9 -> 0
F9: =F6+'7 Construction'!F9 -> 0 | G9: =SUM(G6:G8) -> 0 | H9: =SUM(H6:H8) -> 0 | I9: =SUM(I6:I8) -> 0 | J9: =J6+'7 Construction'!F9 -> 0
